BEGIN:VCALENDAR
VERSION:2.0
PRODID:-//Kitchi Gammi Club - ECPv6.15.20//NONSGML v1.0//EN
CALSCALE:GREGORIAN
METHOD:PUBLISH
X-WR-CALNAME:Kitchi Gammi Club
X-ORIGINAL-URL:https://kitchigammiclub.com
X-WR-CALDESC:Events for Kitchi Gammi Club
REFRESH-INTERVAL;VALUE=DURATION:PT1H
X-Robots-Tag:noindex
X-PUBLISHED-TTL:PT1H
BEGIN:VTIMEZONE
TZID:America/Chicago
BEGIN:DAYLIGHT
TZOFFSETFROM:-0600
TZOFFSETTO:-0500
TZNAME:CDT
DTSTART:20250309T080000
END:DAYLIGHT
BEGIN:STANDARD
TZOFFSETFROM:-0500
TZOFFSETTO:-0600
TZNAME:CST
DTSTART:20251102T070000
END:STANDARD
BEGIN:DAYLIGHT
TZOFFSETFROM:-0600
TZOFFSETTO:-0500
TZNAME:CDT
DTSTART:20260308T080000
END:DAYLIGHT
BEGIN:STANDARD
TZOFFSETFROM:-0500
TZOFFSETTO:-0600
TZNAME:CST
DTSTART:20261101T070000
END:STANDARD
BEGIN:DAYLIGHT
TZOFFSETFROM:-0600
TZOFFSETTO:-0500
TZNAME:CDT
DTSTART:20270314T080000
END:DAYLIGHT
BEGIN:STANDARD
TZOFFSETFROM:-0500
TZOFFSETTO:-0600
TZNAME:CST
DTSTART:20271107T070000
END:STANDARD
END:VTIMEZONE
BEGIN:VEVENT
DTSTART;VALUE=DATE:20260820
DTEND;VALUE=DATE:20260821
DTSTAMP:20260422T174017
CREATED:20260311T210934Z
LAST-MODIFIED:20260311T210934Z
UID:4032-1787184000-1787270399@kitchigammiclub.com
SUMMARY:Wine Dinner
DESCRIPTION:
URL:https://kitchigammiclub.com/event/wine-dinner/
END:VEVENT
BEGIN:VEVENT
DTSTART;TZID=America/Chicago:20260722T173000
DTEND;TZID=America/Chicago:20260722T200000
DTSTAMP:20260422T174017
CREATED:20260311T210910Z
LAST-MODIFIED:20260311T210910Z
UID:4030-1784741400-1784750400@kitchigammiclub.com
SUMMARY:Hands-On Mixology Class
DESCRIPTION:
URL:https://kitchigammiclub.com/event/hands-on-mixology-class/
END:VEVENT
BEGIN:VEVENT
DTSTART;VALUE=DATE:20260717
DTEND;VALUE=DATE:20260718
DTSTAMP:20260422T174017
CREATED:20260106T194404Z
LAST-MODIFIED:20260106T194404Z
UID:3975-1784246400-1784332799@kitchigammiclub.com
SUMMARY:Lobster Boil
DESCRIPTION:
URL:https://kitchigammiclub.com/event/lobster-boil/
END:VEVENT
BEGIN:VEVENT
DTSTART;VALUE=DATE:20260716
DTEND;VALUE=DATE:20260717
DTSTAMP:20260422T174017
CREATED:20260311T210831Z
LAST-MODIFIED:20260311T210831Z
UID:4028-1784160000-1784246399@kitchigammiclub.com
SUMMARY:July Wine Club
DESCRIPTION:
URL:https://kitchigammiclub.com/event/july-wine-club/
END:VEVENT
BEGIN:VEVENT
DTSTART;VALUE=DATE:20260702
DTEND;VALUE=DATE:20260707
DTSTAMP:20260422T174017
CREATED:20260106T194213Z
LAST-MODIFIED:20260106T194337Z
UID:3973-1782950400-1783382399@kitchigammiclub.com
SUMMARY:CLUB CLOSED
DESCRIPTION:
URL:https://kitchigammiclub.com/event/club-closed-7/
END:VEVENT
BEGIN:VEVENT
DTSTART;VALUE=DATE:20260620
DTEND;VALUE=DATE:20260621
DTSTAMP:20260422T174017
CREATED:20260106T194115Z
LAST-MODIFIED:20260106T194115Z
UID:3971-1781913600-1781999999@kitchigammiclub.com
SUMMARY:Grandma's Marathon
DESCRIPTION:
URL:https://kitchigammiclub.com/event/grandmas-marathon/
END:VEVENT
BEGIN:VEVENT
DTSTART;TZID=America/Chicago:20260618T173000
DTEND;TZID=America/Chicago:20260618T210000
DTSTAMP:20260422T174017
CREATED:20260409T161536Z
LAST-MODIFIED:20260409T161536Z
UID:4105-1781803800-1781816400@kitchigammiclub.com
SUMMARY:Family Movie & Pizza Night feat. Zootopia 2
DESCRIPTION:
URL:https://kitchigammiclub.com/event/family-movie-pizza-night-feat-zootopia-2/
END:VEVENT
BEGIN:VEVENT
DTSTART;VALUE=DATE:20260618
DTEND;VALUE=DATE:20260619
DTSTAMP:20260422T174017
CREATED:20260311T210806Z
LAST-MODIFIED:20260311T210806Z
UID:4026-1781740800-1781827199@kitchigammiclub.com
SUMMARY:June Wine Club
DESCRIPTION:
URL:https://kitchigammiclub.com/event/june-wine-club/
END:VEVENT
BEGIN:VEVENT
DTSTART;TZID=America/Chicago:20260612T073000
DTEND;TZID=America/Chicago:20260612T090000
DTSTAMP:20260422T174017
CREATED:20260128T195525Z
LAST-MODIFIED:20260128T195525Z
UID:3997-1781249400-1781254800@kitchigammiclub.com
SUMMARY:TGIF! Coffee Networking in the Pub
DESCRIPTION:TGIF! Member Coffee Networking
URL:https://kitchigammiclub.com/event/tgif-coffee-networking-in-the-pub-2026-06-12/
END:VEVENT
BEGIN:VEVENT
DTSTART;TZID=America/Chicago:20260610T170000
DTEND;TZID=America/Chicago:20260610T200000
DTSTAMP:20260422T174017
CREATED:20260409T160559Z
LAST-MODIFIED:20260409T160559Z
UID:4103-1781110800-1781121600@kitchigammiclub.com
SUMMARY:Supper Club Dinner
DESCRIPTION:
URL:https://kitchigammiclub.com/event/supper-club-dinner/
END:VEVENT
BEGIN:VEVENT
DTSTART;TZID=America/Chicago:20260605T073000
DTEND;TZID=America/Chicago:20260605T090000
DTSTAMP:20260422T174017
CREATED:20260128T195525Z
LAST-MODIFIED:20260128T195525Z
UID:3996-1780644600-1780650000@kitchigammiclub.com
SUMMARY:TGIF! Coffee Networking in the Pub
DESCRIPTION:TGIF! Member Coffee Networking
URL:https://kitchigammiclub.com/event/tgif-coffee-networking-in-the-pub-2026-06-05/
END:VEVENT
BEGIN:VEVENT
DTSTART;TZID=America/Chicago:20260529T073000
DTEND;TZID=America/Chicago:20260529T090000
DTSTAMP:20260422T174017
CREATED:20260128T195525Z
LAST-MODIFIED:20260128T195525Z
UID:3995-1780039800-1780045200@kitchigammiclub.com
SUMMARY:TGIF! Coffee Networking in the Pub
DESCRIPTION:TGIF! Member Coffee Networking
URL:https://kitchigammiclub.com/event/tgif-coffee-networking-in-the-pub-2026-05-29/
END:VEVENT
BEGIN:VEVENT
DTSTART;VALUE=DATE:20260523
DTEND;VALUE=DATE:20260526
DTSTAMP:20260422T174017
CREATED:20250731T202349Z
LAST-MODIFIED:20250731T202349Z
UID:3874-1779494400-1779753599@kitchigammiclub.com
SUMMARY:Club Closed
DESCRIPTION:
URL:https://kitchigammiclub.com/event/club-closed-4/
END:VEVENT
BEGIN:VEVENT
DTSTART;TZID=America/Chicago:20260522T073000
DTEND;TZID=America/Chicago:20260522T090000
DTSTAMP:20260422T174017
CREATED:20260128T195525Z
LAST-MODIFIED:20260128T195525Z
UID:3994-1779435000-1779440400@kitchigammiclub.com
SUMMARY:TGIF! Coffee Networking in the Pub
DESCRIPTION:TGIF! Member Coffee Networking
URL:https://kitchigammiclub.com/event/tgif-coffee-networking-in-the-pub-2026-05-22/
END:VEVENT
BEGIN:VEVENT
DTSTART;VALUE=DATE:20260521
DTEND;VALUE=DATE:20260522
DTSTAMP:20260422T174017
CREATED:20260311T210712Z
LAST-MODIFIED:20260311T210712Z
UID:4024-1779321600-1779407999@kitchigammiclub.com
SUMMARY:May Wine Club
DESCRIPTION:
URL:https://kitchigammiclub.com/event/may-wine-club/
END:VEVENT
BEGIN:VEVENT
DTSTART;TZID=America/Chicago:20260519T163000
DTEND;TZID=America/Chicago:20260519T183000
DTSTAMP:20260422T174017
CREATED:20260409T160455Z
LAST-MODIFIED:20260409T160455Z
UID:4101-1779208200-1779215400@kitchigammiclub.com
SUMMARY:Welcome Back Snowbirds!
DESCRIPTION:
URL:https://kitchigammiclub.com/event/welcome-back-snowbirds/
END:VEVENT
BEGIN:VEVENT
DTSTART;VALUE=DATE:20260516
DTEND;VALUE=DATE:20260517
DTSTAMP:20260422T174017
CREATED:20250731T201655Z
LAST-MODIFIED:20250731T201711Z
UID:3864-1778889600-1778975999@kitchigammiclub.com
SUMMARY:DSSO- Rhine Journey
DESCRIPTION:Transportation Available To and From the Club- RSVP to the Front Desk.
URL:https://kitchigammiclub.com/event/dsso-rhine-journey/
END:VEVENT
BEGIN:VEVENT
DTSTART;TZID=America/Chicago:20260515T073000
DTEND;TZID=America/Chicago:20260515T090000
DTSTAMP:20260422T174017
CREATED:20260128T195525Z
LAST-MODIFIED:20260128T195525Z
UID:3993-1778830200-1778835600@kitchigammiclub.com
SUMMARY:TGIF! Coffee Networking in the Pub
DESCRIPTION:TGIF! Member Coffee Networking
URL:https://kitchigammiclub.com/event/tgif-coffee-networking-in-the-pub-2026-05-15/
END:VEVENT
BEGIN:VEVENT
DTSTART;TZID=America/Chicago:20260513T163000
DTEND;TZID=America/Chicago:20260513T180000
DTSTAMP:20260422T174017
CREATED:20260311T210358Z
LAST-MODIFIED:20260316T212400Z
UID:4016-1778689800-1778695200@kitchigammiclub.com
SUMMARY:All Member Mixer
DESCRIPTION:Open House- Bring Friends and Prospective Members!
URL:https://kitchigammiclub.com/event/all-member-mixer/
END:VEVENT
BEGIN:VEVENT
DTSTART;TZID=America/Chicago:20260513T160000
DTEND;TZID=America/Chicago:20260513T163000
DTSTAMP:20260422T174017
CREATED:20260311T210319Z
LAST-MODIFIED:20260316T212343Z
UID:4014-1778688000-1778689800@kitchigammiclub.com
SUMMARY:New Member Orientation
DESCRIPTION:
URL:https://kitchigammiclub.com/event/new-member-orientation/
END:VEVENT
BEGIN:VEVENT
DTSTART;VALUE=DATE:20260510
DTEND;VALUE=DATE:20260511
DTSTAMP:20260422T174017
CREATED:20260106T193940Z
LAST-MODIFIED:20260106T193940Z
UID:3969-1778371200-1778457599@kitchigammiclub.com
SUMMARY:Mother's Day Brunch
DESCRIPTION:
URL:https://kitchigammiclub.com/event/mothers-day-brunch/
END:VEVENT
BEGIN:VEVENT
DTSTART;TZID=America/Chicago:20260508T073000
DTEND;TZID=America/Chicago:20260508T090000
DTSTAMP:20260422T174017
CREATED:20260128T195525Z
LAST-MODIFIED:20260128T195525Z
UID:3991-1778225400-1778230800@kitchigammiclub.com
SUMMARY:TGIF! Coffee Networking in the Pub
DESCRIPTION:TGIF! Member Coffee Networking
URL:https://kitchigammiclub.com/event/tgif-coffee-networking-in-the-pub-2026-05-08/
END:VEVENT
BEGIN:VEVENT
DTSTART;TZID=America/Chicago:20260505T170000
DTEND;TZID=America/Chicago:20260505T190000
DTSTAMP:20260422T174017
CREATED:20260311T210043Z
LAST-MODIFIED:20260311T210043Z
UID:4012-1778000400-1778007600@kitchigammiclub.com
SUMMARY:Cinco De Mayo- Tequila Tasting
DESCRIPTION:
URL:https://kitchigammiclub.com/event/cinco-de-mayo-tequila-tasting/
END:VEVENT
BEGIN:VEVENT
DTSTART;VALUE=DATE:20260502
DTEND;VALUE=DATE:20260503
DTSTAMP:20260422T174017
CREATED:20260106T193915Z
LAST-MODIFIED:20260106T193915Z
UID:3967-1777680000-1777766399@kitchigammiclub.com
SUMMARY:Kentucky Derby Party
DESCRIPTION:
URL:https://kitchigammiclub.com/event/kentucky-derby-party/
END:VEVENT
BEGIN:VEVENT
DTSTART;TZID=America/Chicago:20260501T073000
DTEND;TZID=America/Chicago:20260501T090000
DTSTAMP:20260422T174017
CREATED:20260128T195525Z
LAST-MODIFIED:20260128T195525Z
UID:3990-1777620600-1777626000@kitchigammiclub.com
SUMMARY:TGIF! Coffee Networking in the Pub
DESCRIPTION:TGIF! Member Coffee Networking
URL:https://kitchigammiclub.com/event/tgif-coffee-networking-in-the-pub-2026-05-01/
END:VEVENT
BEGIN:VEVENT
DTSTART;TZID=America/Chicago:20260424T073000
DTEND;TZID=America/Chicago:20260424T090000
DTSTAMP:20260422T174017
CREATED:20260128T195525Z
LAST-MODIFIED:20260128T195525Z
UID:3989-1777015800-1777021200@kitchigammiclub.com
SUMMARY:TGIF! Coffee Networking in the Pub
DESCRIPTION:TGIF! Member Coffee Networking
URL:https://kitchigammiclub.com/event/tgif-coffee-networking-in-the-pub-2026-04-24/
END:VEVENT
BEGIN:VEVENT
DTSTART;TZID=America/Chicago:20260417T073000
DTEND;TZID=America/Chicago:20260417T090000
DTSTAMP:20260422T174017
CREATED:20260128T195525Z
LAST-MODIFIED:20260128T195525Z
UID:3988-1776411000-1776416400@kitchigammiclub.com
SUMMARY:TGIF! Coffee Networking in the Pub
DESCRIPTION:TGIF! Member Coffee Networking
URL:https://kitchigammiclub.com/event/tgif-coffee-networking-in-the-pub-2026-04-17/
END:VEVENT
BEGIN:VEVENT
DTSTART;VALUE=DATE:20260416
DTEND;VALUE=DATE:20260417
DTSTAMP:20260422T174017
CREATED:20260311T210644Z
LAST-MODIFIED:20260311T210644Z
UID:4022-1776297600-1776383999@kitchigammiclub.com
SUMMARY:April Wine Club
DESCRIPTION:
URL:https://kitchigammiclub.com/event/april-wine-club/
END:VEVENT
BEGIN:VEVENT
DTSTART;VALUE=DATE:20260411
DTEND;VALUE=DATE:20260412
DTSTAMP:20260422T174017
CREATED:20250731T201619Z
LAST-MODIFIED:20250731T201619Z
UID:3862-1775865600-1775951999@kitchigammiclub.com
SUMMARY:DSSO- Indiana Jones and the Raiders of the Lost Ark
DESCRIPTION:Transportation Available to and from the Club- RSVP to the Front Desk.
URL:https://kitchigammiclub.com/event/dsso-indiana-jones-and-the-raiders-of-the-lost-ark/
END:VEVENT
BEGIN:VEVENT
DTSTART;TZID=America/Chicago:20260410T073000
DTEND;TZID=America/Chicago:20260410T090000
DTSTAMP:20260422T174017
CREATED:20260128T195525Z
LAST-MODIFIED:20260128T195525Z
UID:3987-1775806200-1775811600@kitchigammiclub.com
SUMMARY:TGIF! Coffee Networking in the Pub
DESCRIPTION:TGIF! Member Coffee Networking
URL:https://kitchigammiclub.com/event/tgif-coffee-networking-in-the-pub-2026-04-10/
END:VEVENT
END:VCALENDAR