BEGIN:VCALENDAR
VERSION:2.0
PRODID:-//Kitchi Gammi Club - ECPv6.15.20//NONSGML v1.0//EN
CALSCALE:GREGORIAN
METHOD:PUBLISH
X-ORIGINAL-URL:https://kitchigammiclub.com
X-WR-CALDESC:Events for Kitchi Gammi Club
REFRESH-INTERVAL;VALUE=DURATION:PT1H
X-Robots-Tag:noindex
X-PUBLISHED-TTL:PT1H
BEGIN:VTIMEZONE
TZID:America/Chicago
BEGIN:DAYLIGHT
TZOFFSETFROM:-0600
TZOFFSETTO:-0500
TZNAME:CDT
DTSTART:20250309T080000
END:DAYLIGHT
BEGIN:STANDARD
TZOFFSETFROM:-0500
TZOFFSETTO:-0600
TZNAME:CST
DTSTART:20251102T070000
END:STANDARD
BEGIN:DAYLIGHT
TZOFFSETFROM:-0600
TZOFFSETTO:-0500
TZNAME:CDT
DTSTART:20260308T080000
END:DAYLIGHT
BEGIN:STANDARD
TZOFFSETFROM:-0500
TZOFFSETTO:-0600
TZNAME:CST
DTSTART:20261101T070000
END:STANDARD
BEGIN:DAYLIGHT
TZOFFSETFROM:-0600
TZOFFSETTO:-0500
TZNAME:CDT
DTSTART:20270314T080000
END:DAYLIGHT
BEGIN:STANDARD
TZOFFSETFROM:-0500
TZOFFSETTO:-0600
TZNAME:CST
DTSTART:20271107T070000
END:STANDARD
END:VTIMEZONE
BEGIN:VEVENT
DTSTART;VALUE=DATE:20261001
DTEND;VALUE=DATE:20261002
DTSTAMP:20260422T173818
CREATED:20260311T211425Z
LAST-MODIFIED:20260311T211425Z
UID:4046-1790812800-1790899199@kitchigammiclub.com
SUMMARY:Oktoberfest Party
DESCRIPTION:
URL:https://kitchigammiclub.com/event/oktoberfest-party/
END:VEVENT
BEGIN:VEVENT
DTSTART;VALUE=DATE:20261015
DTEND;VALUE=DATE:20261016
DTSTAMP:20260422T173818
CREATED:20260311T211024Z
LAST-MODIFIED:20260311T211024Z
UID:4036-1792022400-1792108799@kitchigammiclub.com
SUMMARY:October Wine Club
DESCRIPTION:
URL:https://kitchigammiclub.com/event/october-wine-club/
END:VEVENT
BEGIN:VEVENT
DTSTART;TZID=America/Chicago:20261019T163000
DTEND;TZID=America/Chicago:20261019T220000
DTSTAMP:20260422T173818
CREATED:20260217T175941Z
LAST-MODIFIED:20260316T212306Z
UID:4006-1792427400-1792447200@kitchigammiclub.com
SUMMARY:Hadestown- Broadway at the DECC
DESCRIPTION:Tickets to the Show Available through the Front Desk!
URL:https://kitchigammiclub.com/event/hadestown-broadway-at-the-decc/
END:VEVENT
BEGIN:VEVENT
DTSTART;TZID=America/Chicago:20261021T173000
DTEND;TZID=America/Chicago:20261021T200000
DTSTAMP:20260422T173818
CREATED:20260311T211101Z
LAST-MODIFIED:20260311T211101Z
UID:4038-1792603800-1792612800@kitchigammiclub.com
SUMMARY:Hands-On Mixology Class
DESCRIPTION:
URL:https://kitchigammiclub.com/event/hands-on-mixology-class-2/
END:VEVENT
BEGIN:VEVENT
DTSTART;VALUE=DATE:20261024
DTEND;VALUE=DATE:20261025
DTSTAMP:20260422T173818
CREATED:20260106T194455Z
LAST-MODIFIED:20260106T194455Z
UID:3977-1792800000-1792886399@kitchigammiclub.com
SUMMARY:Murder Mystery Masquerade Gala
DESCRIPTION:
URL:https://kitchigammiclub.com/event/murder-mystery-masquerade-gala/
END:VEVENT
BEGIN:VEVENT
DTSTART;VALUE=DATE:20261024
DTEND;VALUE=DATE:20261025
DTSTAMP:20260422T173818
CREATED:20260311T211530Z
LAST-MODIFIED:20260311T211530Z
UID:4048-1792800000-1792886399@kitchigammiclub.com
SUMMARY:Murder Mystery Masquerade Gala
DESCRIPTION:Time to Solve the Mystery! Black Tie and Masks Encouraged.
URL:https://kitchigammiclub.com/event/murder-mystery-masquerade-gala-2/
END:VEVENT
BEGIN:VEVENT
DTSTART;VALUE=DATE:20261106
DTEND;VALUE=DATE:20261107
DTSTAMP:20260422T173818
CREATED:20260311T211621Z
LAST-MODIFIED:20260311T211621Z
UID:4050-1793923200-1794009599@kitchigammiclub.com
SUMMARY:Harry Potter Inspired Party
DESCRIPTION:
URL:https://kitchigammiclub.com/event/harry-potter-inspired-party/
END:VEVENT
BEGIN:VEVENT
DTSTART;VALUE=DATE:20261112
DTEND;VALUE=DATE:20261113
DTSTAMP:20260422T173818
CREATED:20260311T211132Z
LAST-MODIFIED:20260311T211132Z
UID:4040-1794441600-1794527999@kitchigammiclub.com
SUMMARY:Holiday Wine Showcase
DESCRIPTION:
URL:https://kitchigammiclub.com/event/holiday-wine-showcase/
END:VEVENT
BEGIN:VEVENT
DTSTART;VALUE=DATE:20261120
DTEND;VALUE=DATE:20261121
DTSTAMP:20260422T173818
CREATED:20260311T211645Z
LAST-MODIFIED:20260311T211645Z
UID:4052-1795132800-1795219199@kitchigammiclub.com
SUMMARY:Christmas City of the North Parade Party
DESCRIPTION:
URL:https://kitchigammiclub.com/event/christmas-city-of-the-north-parade-party/
END:VEVENT
BEGIN:VEVENT
DTSTART;VALUE=DATE:20261126
DTEND;VALUE=DATE:20261127
DTSTAMP:20260422T173818
CREATED:20260311T211708Z
LAST-MODIFIED:20260311T211708Z
UID:4054-1795651200-1795737599@kitchigammiclub.com
SUMMARY:Thanksgiving Buffet
DESCRIPTION:
URL:https://kitchigammiclub.com/event/thanksgiving-buffet/
END:VEVENT
BEGIN:VEVENT
DTSTART;VALUE=DATE:20261127
DTEND;VALUE=DATE:20261128
DTSTAMP:20260422T173818
CREATED:20260311T212528Z
LAST-MODIFIED:20260311T212528Z
UID:4062-1795737600-1795823999@kitchigammiclub.com
SUMMARY:Club Open 11AM - 9PM
DESCRIPTION:
URL:https://kitchigammiclub.com/event/club-open-11am-9pm/
END:VEVENT
BEGIN:VEVENT
DTSTART;TZID=America/Chicago:20261203T173000
DTEND;TZID=America/Chicago:20261203T200000
DTSTAMP:20260422T173818
CREATED:20260311T211215Z
LAST-MODIFIED:20260311T211215Z
UID:4042-1796319000-1796328000@kitchigammiclub.com
SUMMARY:Hands-On Mixology Night : Whisky!
DESCRIPTION:
URL:https://kitchigammiclub.com/event/hands-on-mixology-night-whisky/
END:VEVENT
BEGIN:VEVENT
DTSTART;VALUE=DATE:20261204
DTEND;VALUE=DATE:20261205
DTSTAMP:20260422T173818
CREATED:20260311T211735Z
LAST-MODIFIED:20260311T211735Z
UID:4056-1796342400-1796428799@kitchigammiclub.com
SUMMARY:Candlelight Dinner
DESCRIPTION:
URL:https://kitchigammiclub.com/event/candlelight-dinner/
END:VEVENT
BEGIN:VEVENT
DTSTART;VALUE=DATE:20261224
DTEND;VALUE=DATE:20261225
DTSTAMP:20260422T173818
CREATED:20260311T211853Z
LAST-MODIFIED:20260311T211853Z
UID:4058-1798070400-1798156799@kitchigammiclub.com
SUMMARY:Member/Son Holiday Luncheon
DESCRIPTION:
URL:https://kitchigammiclub.com/event/member-son-holiday-luncheon/
END:VEVENT
BEGIN:VEVENT
DTSTART;VALUE=DATE:20261225
DTEND;VALUE=DATE:20261227
DTSTAMP:20260422T173818
CREATED:20260311T211919Z
LAST-MODIFIED:20260311T211919Z
UID:4060-1798156800-1798329599@kitchigammiclub.com
SUMMARY:CLUB CLOSED
DESCRIPTION:
URL:https://kitchigammiclub.com/event/club-closed-2/
END:VEVENT
BEGIN:VEVENT
DTSTART;VALUE=DATE:20261231
DTEND;VALUE=DATE:20270101
DTSTAMP:20260422T173818
CREATED:20260311T212613Z
LAST-MODIFIED:20260311T212613Z
UID:4064-1798675200-1798761599@kitchigammiclub.com
SUMMARY:Club Open 4PM-12AM
DESCRIPTION:
URL:https://kitchigammiclub.com/event/club-open-4pm-12am/
END:VEVENT
END:VCALENDAR