BEGIN:VCALENDAR
VERSION:2.0
PRODID:-//Kitchi Gammi Club - ECPv6.15.20//NONSGML v1.0//EN
CALSCALE:GREGORIAN
METHOD:PUBLISH
X-ORIGINAL-URL:https://kitchigammiclub.com
X-WR-CALDESC:Events for Kitchi Gammi Club
REFRESH-INTERVAL;VALUE=DURATION:PT1H
X-Robots-Tag:noindex
X-PUBLISHED-TTL:PT1H
BEGIN:VTIMEZONE
TZID:America/Chicago
BEGIN:DAYLIGHT
TZOFFSETFROM:-0600
TZOFFSETTO:-0500
TZNAME:CDT
DTSTART:20250309T080000
END:DAYLIGHT
BEGIN:STANDARD
TZOFFSETFROM:-0500
TZOFFSETTO:-0600
TZNAME:CST
DTSTART:20251102T070000
END:STANDARD
BEGIN:DAYLIGHT
TZOFFSETFROM:-0600
TZOFFSETTO:-0500
TZNAME:CDT
DTSTART:20260308T080000
END:DAYLIGHT
BEGIN:STANDARD
TZOFFSETFROM:-0500
TZOFFSETTO:-0600
TZNAME:CST
DTSTART:20261101T070000
END:STANDARD
BEGIN:DAYLIGHT
TZOFFSETFROM:-0600
TZOFFSETTO:-0500
TZNAME:CDT
DTSTART:20270314T080000
END:DAYLIGHT
BEGIN:STANDARD
TZOFFSETFROM:-0500
TZOFFSETTO:-0600
TZNAME:CST
DTSTART:20271107T070000
END:STANDARD
END:VTIMEZONE
BEGIN:VEVENT
DTSTART;TZID=America/Chicago:20260605T073000
DTEND;TZID=America/Chicago:20260605T090000
DTSTAMP:20260422T085856
CREATED:20260128T195525Z
LAST-MODIFIED:20260128T195525Z
UID:3996-1780644600-1780650000@kitchigammiclub.com
SUMMARY:TGIF! Coffee Networking in the Pub
DESCRIPTION:TGIF! Member Coffee Networking
URL:https://kitchigammiclub.com/event/tgif-coffee-networking-in-the-pub-2026-06-05/
END:VEVENT
BEGIN:VEVENT
DTSTART;TZID=America/Chicago:20260610T170000
DTEND;TZID=America/Chicago:20260610T200000
DTSTAMP:20260422T085856
CREATED:20260409T160559Z
LAST-MODIFIED:20260409T160559Z
UID:4103-1781110800-1781121600@kitchigammiclub.com
SUMMARY:Supper Club Dinner
DESCRIPTION:
URL:https://kitchigammiclub.com/event/supper-club-dinner/
END:VEVENT
BEGIN:VEVENT
DTSTART;TZID=America/Chicago:20260612T073000
DTEND;TZID=America/Chicago:20260612T090000
DTSTAMP:20260422T085856
CREATED:20260128T195525Z
LAST-MODIFIED:20260128T195525Z
UID:3997-1781249400-1781254800@kitchigammiclub.com
SUMMARY:TGIF! Coffee Networking in the Pub
DESCRIPTION:TGIF! Member Coffee Networking
URL:https://kitchigammiclub.com/event/tgif-coffee-networking-in-the-pub-2026-06-12/
END:VEVENT
BEGIN:VEVENT
DTSTART;VALUE=DATE:20260618
DTEND;VALUE=DATE:20260619
DTSTAMP:20260422T085856
CREATED:20260311T210806Z
LAST-MODIFIED:20260311T210806Z
UID:4026-1781740800-1781827199@kitchigammiclub.com
SUMMARY:June Wine Club
DESCRIPTION:
URL:https://kitchigammiclub.com/event/june-wine-club/
END:VEVENT
BEGIN:VEVENT
DTSTART;TZID=America/Chicago:20260618T173000
DTEND;TZID=America/Chicago:20260618T210000
DTSTAMP:20260422T085856
CREATED:20260409T161536Z
LAST-MODIFIED:20260409T161536Z
UID:4105-1781803800-1781816400@kitchigammiclub.com
SUMMARY:Family Movie & Pizza Night feat. Zootopia 2
DESCRIPTION:
URL:https://kitchigammiclub.com/event/family-movie-pizza-night-feat-zootopia-2/
END:VEVENT
BEGIN:VEVENT
DTSTART;VALUE=DATE:20260620
DTEND;VALUE=DATE:20260621
DTSTAMP:20260422T085856
CREATED:20260106T194115Z
LAST-MODIFIED:20260106T194115Z
UID:3971-1781913600-1781999999@kitchigammiclub.com
SUMMARY:Grandma's Marathon
DESCRIPTION:
URL:https://kitchigammiclub.com/event/grandmas-marathon/
END:VEVENT
END:VCALENDAR